BEGIN:VCALENDAR
VERSION:2.0
PRODID:-//ChamberMaster//Event Calendar 2.0//EN
METHOD:PUBLISH
X-PUBLISHED-TTL:P3D
REFRESH-INTERVAL:P3D
CALSCALE:GREGORIAN
BEGIN:VEVENT
DTSTART;VALUE=DATE:20240210
DTEND;VALUE=DATE:20240211
TRANSP:TRANSPARENT
X-MICROSOFT-CDO-ALLDAYEVENT:TRUE
SUMMARY:Valentine's Party!
DESCRIPTION:Valentine's Party! @ Dorf Haus Supper Club\n\nSaturday\, February 10\, 2024 @ 9pm\n\n\n\nCome out for the Annual Valentine's Party Hosted by White Lightning Snowmobile Club along with West on 12. \n\n\n\nTickets available $10 preorder\, contact Chris @ 608-963-5243. You can get tickets day of the show... but they will be $15 at the door! So save some money and preorder!!\n\n\n\nWe will see you there for the start of our 2024 season! We will have some new tunes that we have been working on for the winter! See you there!
X-ALT-DESC;FMTTYPE=text/html:Valentine&#39\;s Party! @ Dorf Haus Supper Club<br />\nSaturday\, February 10\, 2024 @ 9pm<br />\n<br />\n<span font-size:="" segoe="" style="color: rgb(5\, 5\, 5)\; font-family: " ui="">Come out for the Annual Valentine&#39\;s Party Hosted by White Lightning Snowmobile Club along with West on 12.&nbsp\;<br />\n<br />\nTickets available $10 preorder\, contact Chris @ 608-963-5243. You can get tickets day of the show... but they will be $15 at the door! So save some money and preorder!!<br />\n<br />\nWe will see you there for the start of our 2024 season! We will have some new tunes that we have been working on for the winter! See you there!</span>
LOCATION:Dorf Haus Supper Club
UID:e.1184.31546
SEQUENCE:3
DTSTAMP:20260420T003421Z
URL:http://members.saukprairie.com/events/details/valentine-s-party-31546
END:VEVENT

END:VCALENDAR
