BEGIN:VCALENDAR
VERSION:2.0
PRODID:-//ChamberMaster//Event Calendar 2.0//EN
METHOD:PUBLISH
X-PUBLISHED-TTL:P3D
REFRESH-INTERVAL:P3D
CALSCALE:GREGORIAN
BEGIN:VEVENT
DTSTART:20200215T230000Z
DTEND:20200216T020000Z
X-MICROSOFT-CDO-ALLDAYEVENT:FALSE
SUMMARY:Valentine's Weekend - 5 Course Dinner
DESCRIPTION:Sauk-Prairie Grill is Featuring a 5 Course Dinner on Saturday\, February 15th from 5:00 pm - 8:00 pm.  Live music performed by Nick Matthews from Madison\, WI.  Affordably priced at $60.00 per couple or $30.00 per person. Wine and Beer Specials also offered.  Bring your significant other\, best friend\, sister\, brother\, mom or dad and enjoy fine dining food in a friendly family atmosphere! Reservations recommended. Call 608.643.2004
X-ALT-DESC;FMTTYPE=text/html:Sauk-Prairie Grill is Featuring a 5 Course Dinner on Saturday\, February 15th from 5:00 pm - 8:00 pm.&nbsp\; Live music performed by Nick Matthews from Madison\, WI.&nbsp\; Affordably priced at $60.00 per couple or $30.00 per person. Wine and Beer Specials also offered.&nbsp\; Bring your significant other\, best friend\, sister\, brother\, mom or dad and enjoy fine dining food in a friendly family atmosphere! Reservations recommended. Call 608.643.2004
LOCATION:200 Phillips Boulevard Sauk City\, WI 53583 608.643.2004 email: sprairie@sauk-prairiegrill.com
UID:e.1184.24048
SEQUENCE:3
DTSTAMP:20260423T053613Z
URL:http://members.saukprairie.com/events/details/valentine-s-weekend-5-course-dinner-02-15-2020-24048
END:VEVENT

END:VCALENDAR
