BEGIN:VCALENDAR
VERSION:2.0
PRODID:-//ChamberMaster//Event Calendar 2.0//EN
METHOD:PUBLISH
X-PUBLISHED-TTL:P3D
REFRESH-INTERVAL:P3D
CALSCALE:GREGORIAN
BEGIN:VEVENT
DTSTART:20230312T140000Z
DTEND:20230312T200000Z
X-MICROSOFT-CDO-ALLDAYEVENT:FALSE
SUMMARY:Value Does the Work\, Color Gets the Credit with Jan Norsetter
DESCRIPTION:In this oil painting class we will explore the role of value vs color. We'll start by doing some very basic value studies and progress to using color. The aim of this class is to give you some experience in seeing the value relationships of a scene. We'll use color photos as references\, mine or bring your own. For substrates you can use canvas paper\, gessoed paper\, or gessoed panels. We can do the value studies in black/white mixes or any other single darker color plus white. Beginners are welcome. There will be a lunch break\, so please either bring a lunch (fridge and microwave available) or be prepared to purchase food nearby. Supplies to bring: https://www.riverartsinc.org/value-jan/
X-ALT-DESC;FMTTYPE=text/html:<p>In this oil painting class we will explore the role of value vs color.&nbsp\;We&rsquo\;ll start by doing&nbsp\;some very basic value studies and progress to using color.&nbsp\;The aim of this class is to give you some experience in seeing the value relationships of a scene.&nbsp\;We&rsquo\;ll use color photos as references\, mine or bring your own. For substrates you can use canvas paper\, gessoed paper\, or gessoed panels. We can do the value studies in black/white mixes or any other single darker color plus white. Beginners are welcome. There will be a lunch break\, so please either bring a lunch (fridge and microwave available) or be prepared to purchase food nearby. Supplies to bring:&nbsp\;https://www.riverartsinc.org/value-jan/<br />\n&nbsp\;</p>\n
LOCATION:590 Water St\, Prairie du Sac\, WI 53578
UID:e.1184.28221
SEQUENCE:3
DTSTAMP:20260420T180512Z
URL:http://members.saukprairie.com/events/details/value-does-the-work-color-gets-the-credit-with-jan-norsetter-28221
END:VEVENT

END:VCALENDAR
