BEGIN:VCALENDAR
VERSION:2.0
PRODID:-//ChamberMaster//Event Calendar 2.0//EN
METHOD:PUBLISH
X-PUBLISHED-TTL:P3D
REFRESH-INTERVAL:P3D
CALSCALE:GREGORIAN
BEGIN:VEVENT
DTSTART:20231110T170000Z
DTEND:20231110T190000Z
X-MICROSOFT-CDO-ALLDAYEVENT:FALSE
SUMMARY:Veteran's Eat Free
DESCRIPTION:Wyttenbach's Command Center Food Truck will be serving lunch in conjunction with the HEROES for HONOR Rose Sale.   Profit from the Rose Sale will be donated to BADGER HONOR FLIGHT.\n\n\n\nVETERANS eat free!
X-ALT-DESC;FMTTYPE=text/html:Wyttenbach&#39\;s Command Center Food Truck will be serving lunch in conjunction with the HEROES for HONOR Rose Sale.&nbsp\; &nbsp\;Profit from the Rose Sale will be donated to BADGER HONOR FLIGHT.<br />\n<br />\nVETERANS eat free!
LOCATION:McFarlanes' Retail Store in Sauk City
UID:e.1184.31217
SEQUENCE:3
DTSTAMP:20260420T044644Z
URL:http://members.saukprairie.com/events/details/veteran-s-eat-free-31217
END:VEVENT

END:VCALENDAR
