BEGIN:VCALENDAR
VERSION:2.0
PRODID:-//ChamberMaster//Event Calendar 2.0//EN
METHOD:PUBLISH
X-PUBLISHED-TTL:P3D
REFRESH-INTERVAL:P3D
CALSCALE:GREGORIAN
BEGIN:VEVENT
DTSTART:20181111T164500Z
DTEND:20181111T173000Z
X-MICROSOFT-CDO-ALLDAYEVENT:FALSE
SUMMARY:Veterans Day Ceremony
DESCRIPTION:Sauk Prairie Veterans of Foreign Wars Lachmund-Cramer Post 7694 and Sauk City American Legion Kuoni-Reuter Post 167 present Veterans Day Ceremony at 11:00 am\,a moment of silence
X-ALT-DESC;FMTTYPE=text/html:Sauk Prairie Veterans of Foreign Wars Lachmund-Cramer Post 7694 and Sauk City American Legion Kuoni-Reuter Post 167 present Veterans Day Ceremony at 11:00 am\,a moment of silence
LOCATION:Sauk Prairie Area Veterans Memorial entrance to August Derleth Park\, Sauk City
UID:e.1184.14628
SEQUENCE:3
DTSTAMP:20260424T024635Z
URL:http://members.saukprairie.com/events/details/veterans-day-ceremony-14628
END:VEVENT

END:VCALENDAR
