BEGIN:VCALENDAR
VERSION:2.0
PRODID:-//ChamberMaster//Event Calendar 2.0//EN
METHOD:PUBLISH
X-PUBLISHED-TTL:P3D
REFRESH-INTERVAL:P3D
CALSCALE:GREGORIAN
BEGIN:VEVENT
DTSTART;VALUE=DATE:20231025
DTEND;VALUE=DATE:20231026
TRANSP:TRANSPARENT
X-MICROSOFT-CDO-ALLDAYEVENT:TRUE
SUMMARY:Veterans Day Ceremony
DESCRIPTION:Veterans Day Ceremony\n\n	Saturday\, November 11th at 10:55 AM\n	Sauk Prairie Area Memorial\, Water Street\, Sauk City
X-ALT-DESC;FMTTYPE=text/html:Veterans Day Ceremony\n<ul>\n	<li>Saturday\, November 11th at 10:55 AM</li>\n	<li>Sauk Prairie Area Memorial\, Water Street\, Sauk City</li>\n</ul>\n
LOCATION:Sauk Prairie Area Memorial Water Street\, Sauk City
UID:e.1184.31208
SEQUENCE:3
DTSTAMP:20260420T073454Z
URL:http://members.saukprairie.com/events/details/veterans-day-ceremony-31208
END:VEVENT

END:VCALENDAR
