BEGIN:VCALENDAR
VERSION:2.0
PRODID:-//ChamberMaster//Event Calendar 2.0//EN
METHOD:PUBLISH
X-PUBLISHED-TTL:P3D
REFRESH-INTERVAL:P3D
CALSCALE:GREGORIAN
BEGIN:VEVENT
DTSTART;VALUE=DATE:20220417
DTEND;VALUE=DATE:20220418
TRANSP:TRANSPARENT
X-MICROSOFT-CDO-ALLDAYEVENT:TRUE
SUMMARY:Victorious
DESCRIPTION:Victorious\n\nCelebrate Victory with us!\n\n\n\nResurrection of our lord Easter Worship\n\n\n\nFind us on the web at www.stjamespds.org \n\nand on Facebook or Instagram @stjamespds.
X-ALT-DESC;FMTTYPE=text/html:<span style="font-size:20px\;"><strong>Victorious<br />\nCelebrate Victory with us!</strong></span><br />\n<br />\nResurrection of our lord Easter Worship<br />\n<br />\nFind us on the web at <a href="http://www.stjamespds.org">www.stjamespds.org&nbsp\;</a><br />\nand on Facebook or Instagram @stjamespds.
LOCATION:St. James Lutheran Church 415 Washington St. Prairie du Sac\, WI 53578 608-643-405
UID:e.1184.27408
SEQUENCE:3
DTSTAMP:20260421T133634Z
URL:http://members.saukprairie.com/events/details/victorious-27408
END:VEVENT

END:VCALENDAR
