BEGIN:VCALENDAR
VERSION:2.0
PRODID:-//ChamberMaster//Event Calendar 2.0//EN
METHOD:PUBLISH
X-PUBLISHED-TTL:P3D
REFRESH-INTERVAL:P3D
CALSCALE:GREGORIAN
BEGIN:VEVENT
DTSTART:20170726T180000Z
DTEND:20170726T190000Z
X-MICROSOFT-CDO-ALLDAYEVENT:FALSE
SUMMARY:Vintage Brewery Tour
DESCRIPTION:Get your hard hats on because we are touring the Vintage Brewery construction site! Join us for a behind-the-scenes tour of the building process and ask questions about the construction.\n\n\n\nPlease meet at the library before the tour.
X-ALT-DESC;FMTTYPE=text/html:<p><span style="background-color:transparent\; color:rgb(0\, 0\, 0)\; font-family:arial\; font-size:11pt">Get your hard hats on because we are touring the Vintage Brewery construction site! Join us for a behind-the-scenes tour of the building process and ask questions about the construction.<br />\n<br />\nPlease meet at the library before the tour.</span></p>\n
LOCATION:515 Water Street Sauk City\, WI 53583 (608) 643-8346
UID:e.1184.11764
SEQUENCE:3
DTSTAMP:20260425T032815Z
URL:http://members.saukprairie.com/events/details/vintage-brewery-tour-11764
END:VEVENT

END:VCALENDAR
