BEGIN:VCALENDAR
VERSION:2.0
PRODID:-//ChamberMaster//Event Calendar 2.0//EN
METHOD:PUBLISH
X-PUBLISHED-TTL:P3D
REFRESH-INTERVAL:P3D
CALSCALE:GREGORIAN
BEGIN:VEVENT
DTSTART;VALUE=DATE:20240901
DTEND;VALUE=DATE:20241002
TRANSP:TRANSPARENT
X-MICROSOFT-CDO-ALLDAYEVENT:TRUE
SUMMARY:Vintage Brewing Co. - Giveback
DESCRIPTION:Every Month at Vintage Brewing Co. we focus on one part of our community and choose a charity to partner with with. September at all FOUR Vintage Brewing Co. locations (YES FOUR) our focus is creating awareness and raising funds for Morgan's Caring Connections. To support MCC's journey please consider ordering one of our charity cocktails or rounding up your tab to donate directly to help families who have to plan for the unimaginable.\n\n \n\n\n\nMission: At Morgan's Caring Connection\, our mission is to empower families with special needs dependents by providing essential grants to cover legal fees for wills\, trusts\, special needs trusts\, powers of attorney\, guardianship and other critical documents.\n\n \n\n\n\nVision: Our goal is to give families the peace of mind they deserve\, knowing that their loved ones will be cared for\, even when they are no longer able to do so.\n\n@morganscaringconnection
X-ALT-DESC;FMTTYPE=text/html:<div>\n<div>Every Month at Vintage Brewing Co. we focus on one part of our community and choose a charity to partner with with. September at all FOUR Vintage Brewing Co. locations (YES FOUR) our focus is creating awareness and raising funds for Morgan&#39\;s Caring Connections. To support MCC&#39\;s journey please consider ordering one of our charity cocktails or rounding up your tab to donate directly to help families who have to plan for the unimaginable.<br />\n&nbsp\;</div>\n</div>\n\n<div>\n<div>Mission: At Morgan&rsquo\;s Caring Connection\, our mission is to empower families with special needs dependents by providing essential grants to cover legal fees for wills\, trusts\, special needs trusts\, powers of attorney\, guardianship and other critical documents.<br />\n&nbsp\;</div>\n</div>\n\n<div>\n<div>Vision: Our goal is to give families the peace of mind they deserve\, knowing that their loved ones will be cared for\, even when they are no longer able to do so.</div>\n\n<div>@morganscaringconnection</div>\n</div>\n
LOCATION:All 4 Vintage Brewing Co. locations Sauk City\, Cross Plains\, Madison West and Madison East
UID:e.1184.33044
SEQUENCE:3
DTSTAMP:20260419T132828Z
URL:http://members.saukprairie.com/events/details/vintage-brewing-co-giveback-33044
END:VEVENT

END:VCALENDAR
