BEGIN:VCALENDAR
VERSION:2.0
PRODID:-//ChamberMaster//Event Calendar 2.0//EN
METHOD:PUBLISH
X-PUBLISHED-TTL:P3D
REFRESH-INTERVAL:P3D
CALSCALE:GREGORIAN
BEGIN:VEVENT
DTSTART:20160915T203000Z
DTEND:20160915T230000Z
X-MICROSOFT-CDO-ALLDAYEVENT:FALSE
SUMMARY:Vintage Brewing Co. Open House
DESCRIPTION:Vintage Brewing Co.\, Woodshed Ale House\, Friede & Associates\, and Ramaker & Associates would like to invite you to an unveiling of our new Restaurant & Brewery - opening in 2017.\n\n\n\nHors d'oeuvres & beverages served.
X-ALT-DESC;FMTTYPE=text/html:Vintage Brewing Co.\, Woodshed Ale House\, Friede &amp\; Associates\, and Ramaker &amp\; Associates would like to invite you to an unveiling of our new Restaurant &amp\; Brewery - opening in 2017.<br />\n<br />\nHors d&rsquo\;oeuvres &amp\; beverages served.
LOCATION:WHERE: Ramaker & Associates 855 Community Dr.\, Sauk City
UID:e.1184.9372
SEQUENCE:3
DTSTAMP:20260425T192616Z
URL:http://members.saukprairie.com/events/details/vintage-brewing-co-open-house-9372
END:VEVENT

END:VCALENDAR
