BEGIN:VCALENDAR
VERSION:2.0
PRODID:-//ChamberMaster//Event Calendar 2.0//EN
METHOD:PUBLISH
X-PUBLISHED-TTL:P3D
REFRESH-INTERVAL:P3D
CALSCALE:GREGORIAN
BEGIN:VEVENT
DTSTART;VALUE=DATE:20190301
DTEND;VALUE=DATE:20190303
TRANSP:TRANSPARENT
X-MICROSOFT-CDO-ALLDAYEVENT:TRUE
SUMMARY:Vintage Shop Hop
DESCRIPTION:Cameo Antiques\,  Mixing Bowl Bakery\, & St. Vincent De Paul are all participating!\n\n\n\nCameo Antiques will be offering a 15% off sale\, treats and having extended hours!\n\n\n\n_______________________________________________________________________\n\n\n\nNever shop hopped? Well\, get ready! This is the mother load of all road trips! And it's produced by Nellie's Barn Sale so it's sure to be a good time!\n\n\n\nIt's a self-guided day of vintage shopping. We're gathering 400+ vintage shops and antique store owners in northern Illinois and southern Wisconsin to roll out the red carpet for you on March 2 & 3\, 2018. You just have to gather your friends and head out!\n\n\n\nEach shop will offer their own promotion--fun things like discounts\, demonstrations\, artists on site\, prize drawings\, treats\, wine tastings\, entertainment\, punch cards\, parking lot sales\, and more...whatever they want to offer to customers for your shopping enjoyment.\n\n\n\nYou can follow along on this page as we highlight shops each day along with "mini-regions" that encompass many shops in one area. Every few days we post an updated interactive Google Map showing all shop locations. You can pull it up on your mobile device as you shop\, making it easy to hop from shop to shop! And because it's a Google Map\, you can also see restaurants\, points of interest\, gas stations and more! There will also be a "list" of shops that are categorized into mini-regions for easy traveling from one to the next. You can find this list posted every few days...and when it's complete with all 400 shops\, it will be posted to our blog year round. Print it off and keep in your glove compartment!\n\n\n\nSee the growing list and Google Map of shop locations on our blog year round...here...www.vintageshophop.blogspot.com\n\n\n\n#vintageshophop\n\n\n\nAll you have to do is "grab your friends. hit the road. shop hard."
X-ALT-DESC;FMTTYPE=text/html:Cameo Antiques\,&nbsp\; Mixing Bowl Bakery\, &amp\; St. Vincent De Paul are all participating!<br />\n<br />\nCameo Antiques will be offering a 15% off sale\, treats and having extended hours!<br />\n<br />\n_______________________________________________________________________<br />\n<br />\n<span style="color: rgb(75\, 79\, 86)\; font-family: Helvetica\, Arial\, sans-serif\; font-size: 14px\;">Never shop hopped? Well\, get ready! This is the mother load of all road trips! And it&#39\;s produced by Nellie&#39\;s Barn Sale so it&#39\;s sure to be a good time!</span><br style="color: rgb(75\, 79\, 86)\; font-family: Helvetica\, Arial\, sans-serif\; font-size: 14px\;" />\n<br style="color: rgb(75\, 79\, 86)\; font-family: Helvetica\, Arial\, sans-serif\; font-size: 14px\;" />\n<span style="color: rgb(75\, 79\, 86)\; font-family: Helvetica\, Arial\, sans-serif\; font-size: 14px\;">It&#39\;s a self-guided day of vintage shopping. We&#39\;re gathering 400+ vintage shops and antique store owners in northern Illinois and southern Wisconsin to roll out the red carpet for you on March 2 &amp\; 3\, 2018. You just have to gather your friends and head out!</span><br style="color: rgb(75\, 79\, 86)\; font-family: Helvetica\, Arial\, sans-serif\; font-size: 14px\;" />\n<br style="color: rgb(75\, 79\, 86)\; font-family: Helvetica\, Arial\, sans-serif\; font-size: 14px\;" />\n<span style="color: rgb(75\, 79\, 86)\; font-family: Helvetica\, Arial\, sans-serif\; font-size: 14px\;">Each shop will offer their own promotion--fun things like discounts\, demonstrations\, artists on site\, prize drawings\, treats\, wine tastings\, entertainment\, punch cards\, parking lot sales\, and more...whatever they want to offer to customers for your shopping enjoyment.</span><br style="color: rgb(75\, 79\, 86)\; font-family: Helvetica\, Arial\, sans-serif\; font-size: 14px\;" />\n<br style="color: rgb(75\, 79\, 86)\; font-family: Helvetica\, Arial\, sans-serif\; font-size: 14px\;" />\n<span style="color: rgb(75\, 79\, 86)\; font-family: Helvetica\, Arial\, sans-serif\; font-size: 14px\;">You can follow along on this page as we h</span><span class="text_exposed_show" style="display: inline\; font-family: Helvetica\, Arial\, sans-serif\; color: rgb(75\, 79\, 86)\; font-size: 14px\;">ighlight shops each day along with &quot\;mini-regions&quot\; that encompass many shops in one area. Every few days we post an updated interactive Google Map showing all shop locations. You can pull it up on your mobile device as you shop\, making it easy to hop from shop to shop! And because it&#39\;s a Google Map\, you can also see restaurants\, points of interest\, gas stations and more! There will also be a &quot\;list&quot\; of shops that are categorized into mini-regions for easy traveling from one to the next. You can find this list posted every few days...and when it&#39\;s complete with all 400 shops\, it will be posted to our blog year round. Print it off and keep in your glove compartment!<br />\n<br />\nSee the growing list and Google Map of shop locations on our blog year round...here...<a data-lynx-mode="async" data-lynx-uri="https://l.facebook.com/l.php?u=https%3A%2F%2Fwww.vintageshophop.blogspot.com%2F&amp\;h=ATOFB7iGDn97LisD9GXDrdUXtnJjT0wvmJLMj0nT6bpSCUXV1roYirsB-NZqmPTgFDQspA1WaAm8b_ry2xYHJ90-Q-LgoQuq5TXbBtLneXiA_FM9q8lOdnnJBvPQbiMSJcORgO_x23i5xkSs1rHQKy2G4O9kvRnxlwSwcpwx0MnjQJyv" href="https://www.vintageshophop.blogspot.com/" rel="nofollow noopener" style="color: rgb(54\, 88\, 153)\; text-decoration-line: none\; font-family: inherit\;" target="_blank"><span style="font-family: inherit\;">www.vintageshophop.blogspo</span><wbr />t.com</a><br />\n<br />\n<a class="_58cn" data-ft="{&quot\;tn&quot\;:&quot\;*N&quot\;\,&quot\;type&quot\;:104}" href="https://www.facebook.com/hashtag/vintageshophop" style="color: rgb(54\, 88\, 153)\; text-decoration-line: none\; font-family: inherit\;">#vintageshophop</a><br />\n<br />\nAll you have to do is &quot\;grab your friends. hit the road. shop hard.&quot\;</span>
LOCATION:Cameo Antique Mall The Mixing Bowl Bakery St. Vincent de Paul
UID:e.1184.22014
SEQUENCE:3
DTSTAMP:20260423T213154Z
URL:http://members.saukprairie.com/events/details/vintage-shop-hop-22014
END:VEVENT

END:VCALENDAR
