BEGIN:VCALENDAR
VERSION:2.0
PRODID:-//ChamberMaster//Event Calendar 2.0//EN
METHOD:PUBLISH
X-PUBLISHED-TTL:P3D
REFRESH-INTERVAL:P3D
CALSCALE:GREGORIAN
BEGIN:VEVENT
DTSTART;VALUE=DATE:20191004
DTEND;VALUE=DATE:20191006
TRANSP:TRANSPARENT
X-MICROSOFT-CDO-ALLDAYEVENT:TRUE
SUMMARY:Vintage Shop Hop
DESCRIPTION:Grab your friends\, hit the road and shop hard! We are participating in the Vintage Shop Hop\, a large shopping event with 300+ shops and boutiques! \n\n\n\nCameo will have a store wide sale\, treats and prizes to win!\n\nWe have extended our hours for the two days! \n\n\n\nMore information and the master shop list can be found here at the Vintage Shop Hop Blog: https://vintageshophop.blogspot.com/
X-ALT-DESC;FMTTYPE=text/html:<span style="color: rgb(29\, 33\, 41)\; font-family: Helvetica\, Arial\, sans-serif\; font-size: 14px\; white-space: pre-wrap\;">Grab your friends\, hit the road and shop hard! We are participating in the Vintage Shop Hop\, a large shopping event with 300+ shops and boutiques! </span><br style="color: rgb(29\, 33\, 41)\; font-family: Helvetica\, Arial\, sans-serif\; font-size: 14px\; white-space: pre-wrap\;" />\n<br style="color: rgb(29\, 33\, 41)\; font-family: Helvetica\, Arial\, sans-serif\; font-size: 14px\; white-space: pre-wrap\;" />\n<span style="color: rgb(29\, 33\, 41)\; font-family: Helvetica\, Arial\, sans-serif\; font-size: 14px\; white-space: pre-wrap\;">Cameo will have a store wide sale\, treats and prizes to win!</span><br style="color: rgb(29\, 33\, 41)\; font-family: Helvetica\, Arial\, sans-serif\; font-size: 14px\; white-space: pre-wrap\;" />\n<span style="color: rgb(29\, 33\, 41)\; font-family: Helvetica\, Arial\, sans-serif\; font-size: 14px\; white-space: pre-wrap\;">We have extended our hours for the two days! </span><br style="color: rgb(29\, 33\, 41)\; font-family: Helvetica\, Arial\, sans-serif\; font-size: 14px\; white-space: pre-wrap\;" />\n<br style="color: rgb(29\, 33\, 41)\; font-family: Helvetica\, Arial\, sans-serif\; font-size: 14px\; white-space: pre-wrap\;" />\n<span style="color: rgb(29\, 33\, 41)\; font-family: Helvetica\, Arial\, sans-serif\; font-size: 14px\; white-space: pre-wrap\;">More information and the master shop list can be found here at the Vintage Shop Hop Blog: </span><a data-lynx-mode="hover" data-lynx-uri="https://l.facebook.com/l.php?u=https%3A%2F%2Fvintageshophop.blogspot.com%2F%3Ffbclid%3DIwAR3Mo6AuwD9SSRyeBuLT3aj76WwVxnRCRQ9hyk1GEkoJMVg2uaaHET-gUkE&amp\;h=AT26VXpGWKu0aMcqH7mwN0VOxPzfWgoaEbQdERub6McQ26KMWbEV1shjCS6tYoAkvAfzbr7tQQrkdGKxzUosiMqnKVnZEn_VZH0cIzCr4aqEteh9IOKjJloQ7T0yY3sJA48" href="https://vintageshophop.blogspot.com/?fbclid=IwAR3Mo6AuwD9SSRyeBuLT3aj76WwVxnRCRQ9hyk1GEkoJMVg2uaaHET-gUkE" rel="nofollow noopener" style="color: rgb(56\, 88\, 152)\; cursor: pointer\; text-decoration-line: none\; font-family: Helvetica\, Arial\, sans-serif\; font-size: 14px\; white-space: pre-wrap\;" target="_blank">https://vintageshophop.blogspot.com/</a>
LOCATION:Cameo Antique Mall\, St. Vincent de Paul\, ReTwist-T
UID:e.1184.23164
SEQUENCE:3
DTSTAMP:20260423T113757Z
URL:http://members.saukprairie.com/events/details/vintage-shop-hop-23164
END:VEVENT

END:VCALENDAR
