BEGIN:VCALENDAR
VERSION:2.0
PRODID:-//ChamberMaster//Event Calendar 2.0//EN
METHOD:PUBLISH
X-PUBLISHED-TTL:P3D
REFRESH-INTERVAL:P3D
CALSCALE:GREGORIAN
BEGIN:VEVENT
DTSTART;VALUE=DATE:20221007
DTEND;VALUE=DATE:20221009
TRANSP:TRANSPARENT
X-MICROSOFT-CDO-ALLDAYEVENT:TRUE
SUMMARY:Vintage Shop Hop
DESCRIPTION:The Vintage Shop Hop is a self-guided day of vintage & boutique shopping held twice a year. We're gathering 500+ vintage & antique shops\, along with barn sales\, women's boutiques & home decor shops in northern Illinois and southern Wisconsin to roll out the red carpet for you on October 7 & 8\, 2022. You just have to gather your friends and head out!
X-ALT-DESC;FMTTYPE=text/html:<span style="color: rgb(29\, 33\, 41)\; font-family: Helvetica\, Arial\, sans-serif\; font-size: 14px\; white-space: pre-wrap\; background-color: rgb(255\, 255\, 255)\;">The Vintage Shop Hop is a self-guided day of vintage &amp\; boutique shopping held twice a year. We&#39\;re gathering 500+ vintage &amp\; antique shops\, along with barn sales\, women&#39\;s boutiques &amp\; home decor shops in northern Illinois and southern Wisconsin to roll out the red carpet for you on October 7 &amp\; 8\, 2022. You just have to gather your friends and head out!</span>
LOCATION:Sauk Prairie Participants: 3 Generations Stemmed from Grace Cameo Antique Mall Unfolded
UID:e.1184.28237
SEQUENCE:3
DTSTAMP:20260421T050807Z
URL:http://members.saukprairie.com/events/details/vintage-shop-hop-28237
END:VEVENT

END:VCALENDAR
