BEGIN:VCALENDAR
VERSION:2.0
PRODID:-//ChamberMaster//Event Calendar 2.0//EN
METHOD:PUBLISH
X-PUBLISHED-TTL:P3D
REFRESH-INTERVAL:P3D
CALSCALE:GREGORIAN
BEGIN:VEVENT
DTSTART;VALUE=DATE:20230303
DTEND;VALUE=DATE:20230305
TRANSP:TRANSPARENT
X-MICROSOFT-CDO-ALLDAYEVENT:TRUE
SUMMARY:Vintage Shop Hop
DESCRIPTION:The Vintage Shop Hop is a self-guided day of vintage & boutique shopping held twice a year. We're gathering 500+ vintage & antique shops\, along with barn sales\, women's boutiques & home decor shops in northern Illinois and southern Wisconsin to roll out the red carpet for you on March 3 and 4. You just have to gather your friends and head out!\n\n\n\nSauk Prairie Participants: \n\n	Cameo Antique Mall\n\nCameo will have a store wide sale of 15% to 70% off. The first 25 people each day get a thank you gift. There will by snacks for you to enjoy while you shop.
X-ALT-DESC;FMTTYPE=text/html:<span style="color: rgb(29\, 33\, 41)\; font-family: Helvetica\, Arial\, sans-serif\; font-size: 14px\; white-space: pre-wrap\; background-color: rgb(255\, 255\, 255)\;">The Vintage Shop Hop is a self-guided day of vintage &amp\; boutique shopping held twice a year. We&#39\;re gathering 500+ vintage &amp\; antique shops\, along with barn sales\, women&#39\;s boutiques &amp\; home decor shops in northern Illinois and southern Wisconsin to roll out the red carpet for you on March 3 and 4. You just have to gather your friends and head out!</span><br />\n<br />\nSauk Prairie Participants:&#8203\;\n<ul>\n	<li>Cameo Antique Mall</li>\n</ul>\n<span style="color: rgba(0\, 0\, 0\, 0.87)\; font-family: Roboto\, Arial\, sans-serif\; font-size: 14px\;">Cameo will have a store wide sale of 15% to 70% off. The first 25 people each day get a thank you gift. There will by snacks for you to enjoy while you shop.</span><br />\n<br />\n&nbsp\;
LOCATION:Cameo Antique Mall 827 Water St. Sauk City
UID:e.1184.30646
SEQUENCE:3
DTSTAMP:20260420T180604Z
URL:http://members.saukprairie.com/events/details/vintage-shop-hop-30646
END:VEVENT

END:VCALENDAR
