BEGIN:VCALENDAR
VERSION:2.0
PRODID:-//ChamberMaster//Event Calendar 2.0//EN
METHOD:PUBLISH
X-PUBLISHED-TTL:P3D
REFRESH-INTERVAL:P3D
CALSCALE:GREGORIAN
BEGIN:VEVENT
DTSTART;VALUE=DATE:20170303
DTEND;VALUE=DATE:20170305
TRANSP:TRANSPARENT
X-MICROSOFT-CDO-ALLDAYEVENT:TRUE
SUMMARY:Vintage Shop Hop - Cameo Antiques
DESCRIPTION:The 4th Annual Vintage Shop Hop is scheduled for Friday and Saturday\, March 3 & 4\, 2017. It's the mother load of road trips...a self-guided day to any number of the 388 participating shops through northern Illinois and southern Wisconsin. \n\n\n\nWe provide the list of participating vintage and antique shops\, and you grab your friends and hit the road to shop! \n\n\n\nThis year we have 314 locally owned vintage business owners who are taking part. They each roll out the red carpet for you by hosting a fun promotion inside their store. It might be anything from chalk paint demonstrations to jewelry making demo or music on site or a parking lot sale. They each run their own promotion and set their own hours. But typically they run normal retail hours--opening at 9 or 10am and closing at 5 or after.\n\n\n\nWe suggest you take a look at the list\, and decide if you want to shop in your own back yard or venture out a little further and make a day or weekend of it. Then\, take a few minutes to check out the shops' facebook pages\, check their hours\, and route out your day!\n\n\n\nThe event's official facebook page is: www.facebook.com/vintageshophopevent\n\n\n\nYou will find spotlight posts on each and every shop on the hop--with hot links to their pages--and other appropriate posts from the shops themselves. There's a new interactive Google Map this year! You can click/tap the map locators and see detail information on each shop. That means while you're out on the road\, you can open the map to see what your next shop will be.
X-ALT-DESC;FMTTYPE=text/html:<span style="color: rgb(102\, 102\, 102)\; font-family: 'helvetica neue'\, arial\, helvetica\, sans-serif\; font-size: large\;">The 4th&nbsp\;Annual Vintage Shop Hop is scheduled for Friday and Saturday\, March 3 &amp\; 4\, 2017. It&#39\;s the mother load of road trips...a self-guided day to any number of the 388 participating shops through northern Illinois and southern Wisconsin.&nbsp\;</span><br style="color: rgb(102\, 102\, 102)\; font-family: 'Trebuchet MS'\, Trebuchet\, sans-serif\; line-height: 18.2px\;" />\n<br />\n<span style="color: rgb(102\, 102\, 102)\; font-family: 'helvetica neue'\, arial\, helvetica\, sans-serif\; font-size: large\;">We provide the list of participating vintage and antique shops\, and you grab your friends and hit the road to shop!&nbsp\;</span><br style="color: rgb(102\, 102\, 102)\; font-family: 'Trebuchet MS'\, Trebuchet\, sans-serif\; line-height: 18.2px\;" />\n<br />\n<span style="color: rgb(102\, 102\, 102)\; font-family: 'helvetica neue'\, arial\, helvetica\, sans-serif\; font-size: large\;">This year we have 314 locally owned vintage business owners who are taking part. They each roll out the red carpet for you by hosting a fun promotion inside their store. It might be anything from chalk paint demonstrations to jewelry making demo or music on site or a parking lot sale. They each run their own promotion and set their own hours. But typically they run normal retail hours--opening at 9 or 10am and closing at 5 or after.</span><br style="color: rgb(102\, 102\, 102)\; font-family: 'Trebuchet MS'\, Trebuchet\, sans-serif\; line-height: 18.2px\;" />\n<br />\n<span style="color: rgb(102\, 102\, 102)\; font-family: 'helvetica neue'\, arial\, helvetica\, sans-serif\; font-size: large\;">We suggest you take a look at the list\, and decide if you want to shop in your own back yard or venture out a little further and make a day or weekend of it. Then\, take a few minutes to check out the shops&#39\; facebook pages\, check their hours\, and route out your day!</span><br style="color: rgb(102\, 102\, 102)\; font-family: 'Trebuchet MS'\, Trebuchet\, sans-serif\; line-height: 18.2px\;" />\n<br />\n<span style="color: rgb(102\, 102\, 102)\; font-family: 'helvetica neue'\, arial\, helvetica\, sans-serif\; font-size: large\;">The event&#39\;s official facebook page is:&nbsp\;<a href="http://www.facebook.com/vintageshophopevent" style="text-decoration: none\; color: rgb(184\, 114\, 9)\;">www.facebook.com/vintageshophopevent</a></span><br style="color: rgb(102\, 102\, 102)\; font-family: 'Trebuchet MS'\, Trebuchet\, sans-serif\; line-height: 18.2px\;" />\n<br />\n<span style="color: rgb(102\, 102\, 102)\; font-family: 'helvetica neue'\, arial\, helvetica\, sans-serif\; font-size: large\;">You will find spotlight posts on each and every shop on the hop--with hot links to their pages--and other appropriate posts from the shops themselves. There&#39\;s a new interactive Google Map this year! You can click/tap the map locators and see detail information on each shop. That means while you&#39\;re out on the road\, you can open the map to see what your next shop will be.&nbsp\;</span>
LOCATION:
UID:e.1184.10002
SEQUENCE:3
DTSTAMP:20260425T110333Z
URL:http://members.saukprairie.com/events/details/vintage-shop-hop-cameo-antiques-10002
END:VEVENT

END:VCALENDAR
