BEGIN:VCALENDAR
VERSION:2.0
PRODID:-//ChamberMaster//Event Calendar 2.0//EN
METHOD:PUBLISH
X-PUBLISHED-TTL:P3D
REFRESH-INTERVAL:P3D
CALSCALE:GREGORIAN
BEGIN:VEVENT
DTSTART:20201201T143000Z
DTEND:20201201T153000Z
X-MICROSOFT-CDO-ALLDAYEVENT:FALSE
SUMMARY:Virtual Get Moving Sauk Prairie - December 1st\, 2020
DESCRIPTION:Join us for a Virtual GMSP on Tuesday\, Dec. 1st from 8:30am-9:30 to receive a free gift!
X-ALT-DESC;FMTTYPE=text/html:Join us for a Virtual GMSP on Tuesday\, Dec. 1<sup>st</sup> from 8:30am-9:30 to receive a free gift!<br />\n<br />\n&nbsp\;
LOCATION:Meeting ID meet.google.com/vbk-qzwk-qyu Phone Numbers ( US ) +1 929-324-2518 PIN: 161 894 422#
UID:e.1184.23697
SEQUENCE:3
DTSTAMP:20260422T121005Z
URL:http://members.saukprairie.com/events/details/virtual-get-moving-sauk-prairie-december-1st-2020-23697
END:VEVENT

END:VCALENDAR
