BEGIN:VCALENDAR
VERSION:2.0
PRODID:-//ChamberMaster//Event Calendar 2.0//EN
METHOD:PUBLISH
X-PUBLISHED-TTL:P3D
REFRESH-INTERVAL:P3D
CALSCALE:GREGORIAN
BEGIN:VEVENT
DTSTART:20210202T143000Z
DTEND:20210202T160000Z
X-MICROSOFT-CDO-ALLDAYEVENT:FALSE
SUMMARY:Virtual Get Moving Sauk Prairie - February 2nd\, 2021
DESCRIPTION:Join us for a Virtual GMSP on Tuesday\, February 2nd\, from 8:30-10am.
X-ALT-DESC;FMTTYPE=text/html:Join us for a Virtual GMSP on Tuesday\, February 2nd\, from 8:30-10am.<br />\n&nbsp\;
LOCATION:Meeting ID meet.google.com/dmz-shyb-nrj Phone Numbers ( US ) +1 650-822-8215 PIN: 743 212 871#
UID:e.1184.26172
SEQUENCE:3
DTSTAMP:20260422T104428Z
URL:http://members.saukprairie.com/events/details/virtual-get-moving-sauk-prairie-february-2nd-2021-26172
END:VEVENT

END:VCALENDAR
