BEGIN:VCALENDAR
VERSION:2.0
PRODID:-//ChamberMaster//Event Calendar 2.0//EN
METHOD:PUBLISH
X-PUBLISHED-TTL:P3D
REFRESH-INTERVAL:P3D
CALSCALE:GREGORIAN
BEGIN:VEVENT
DTSTART:20200602T140000Z
DTEND:20200602T150000Z
X-MICROSOFT-CDO-ALLDAYEVENT:FALSE
SUMMARY:Virtual Get Moving Sauk Prairie - June 2nd\, 2020
DESCRIPTION:Join us for a virtual GMSP! Join our Speakers\, Tywana German\, Tommy Brennan with Monona Bank and Tracy Thompson with RE/MAX Grand.\n\n\n\nMeeting ID\n\nMeet.google.com/qqd-hkdc-sso
X-ALT-DESC;FMTTYPE=text/html:Join us for a virtual GMSP! Join our Speakers\, Tywana German\, Tommy Brennan with Monona Bank and Tracy Thompson with RE/MAX Grand.<br />\n<br />\nMeeting ID<br />\n<a href="http://Meet.google.com/qqd-hkdc-sso"><span style="color: rgb(47\, 85\, 151)\;">Meet.google.com/qqd-hkdc-sso</span></a><br />\n&nbsp\;
LOCATION:Meeting ID Meet.google.com/qqd-hkdc-sso
UID:e.1184.23692
SEQUENCE:3
DTSTAMP:20260422T224834Z
URL:http://members.saukprairie.com/events/details/virtual-get-moving-sauk-prairie-june-2nd-2020-23692
END:VEVENT

END:VCALENDAR
