BEGIN:VCALENDAR
VERSION:2.0
PRODID:-//ChamberMaster//Event Calendar 2.0//EN
METHOD:PUBLISH
X-PUBLISHED-TTL:P3D
REFRESH-INTERVAL:P3D
CALSCALE:GREGORIAN
BEGIN:VEVENT
DTSTART:20210302T143000Z
DTEND:20210302T160000Z
X-MICROSOFT-CDO-ALLDAYEVENT:FALSE
SUMMARY:Virtual Get Moving Sauk Prairie - March 2nd\, 2021
DESCRIPTION:Join us for a Virtual GMSP on Tuesday\, March 2nd\, from 8:30-10am.
X-ALT-DESC;FMTTYPE=text/html:Join us for a Virtual GMSP on Tuesday\, March 2nd\, from 8:30-10am.<br />\n&nbsp\;
LOCATION:Join with Google Meet meet.google.com/vgm-sagq-peg Join by phone (US) +1 540-680-4439 (PIN: 273489835)
UID:e.1184.26423
SEQUENCE:3
DTSTAMP:20260422T091009Z
URL:http://members.saukprairie.com/events/details/virtual-get-moving-sauk-prairie-march-2nd-2021-26423
END:VEVENT

END:VCALENDAR
