BEGIN:VCALENDAR
VERSION:2.0
PRODID:-//ChamberMaster//Event Calendar 2.0//EN
METHOD:PUBLISH
X-PUBLISHED-TTL:P3D
REFRESH-INTERVAL:P3D
CALSCALE:GREGORIAN
BEGIN:VEVENT
DTSTART:20200806T163000Z
DTEND:20200806T180000Z
X-MICROSOFT-CDO-ALLDAYEVENT:FALSE
SUMMARY:VIRTUAL New Member Boarding (old member refresher)
DESCRIPTION:We invite you to:\n\n	Meet new members\n	Learn about Chambermaster\n	Learn how to promote your business
X-ALT-DESC;FMTTYPE=text/html:<br />\nWe invite you to:\n<ul>\n	<li>Meet new members</li>\n	<li>Learn about Chambermaster</li>\n	<li>Learn how to promote your business</li>\n</ul>\n
LOCATION:Meeting ID meet.google.com/qea-xgoa-imv Phone Numbers ( US ) +1 337-513-0485 PIN: 161 348 712#
UID:e.1184.23715
SEQUENCE:3
DTSTAMP:20260422T182413Z
URL:http://members.saukprairie.com/events/details/virtual-new-member-boarding-old-member-refresher-23715
END:VEVENT

END:VCALENDAR
