BEGIN:VCALENDAR
VERSION:2.0
PRODID:-//ChamberMaster//Event Calendar 2.0//EN
METHOD:PUBLISH
X-PUBLISHED-TTL:P3D
REFRESH-INTERVAL:P3D
CALSCALE:GREGORIAN
BEGIN:VEVENT
DTSTART:20200610T140000Z
DTEND:20200610T150000Z
X-MICROSOFT-CDO-ALLDAYEVENT:FALSE
SUMMARY:Virtual Parent Cafe
DESCRIPTION:The Parent Cafe is a free\, weekly opportunity for parents and caregivers in Southern Wisconsin to talk with each other. As we connect\, we find resources and gain skills that can make our families happier.
X-ALT-DESC;FMTTYPE=text/html:The Parent Cafe is a free\, weekly opportunity for parents and caregivers in Southern Wisconsin to talk with each other. As we connect\, we find resources and gain skills that can make our families happier.
LOCATION:Online
UID:e.1184.25252
SEQUENCE:3
DTSTAMP:20260422T224639Z
URL:http://members.saukprairie.com/events/details/virtual-parent-cafe-06-10-2020-25252
END:VEVENT

END:VCALENDAR
