BEGIN:VCALENDAR
VERSION:2.0
PRODID:-//ChamberMaster//Event Calendar 2.0//EN
METHOD:PUBLISH
X-PUBLISHED-TTL:P3D
REFRESH-INTERVAL:P3D
CALSCALE:GREGORIAN
BEGIN:VEVENT
DTSTART:20190207T190000Z
DTEND:20190208T012000Z
X-MICROSOFT-CDO-ALLDAYEVENT:FALSE
SUMMARY:Virtual Reality
DESCRIPTION:Back by popular demand for this day off school! Experience virtual reality from the comfort of the library Thursday\, February 7. Register for your 20-minute slot between 1:00 p.m. and 7:20 p.m. Please note this event is open to all ages\, but is not recommended for those under 12.  Registration is required. Contact Meagan at 643-8318 with questions.
X-ALT-DESC;FMTTYPE=text/html:Back by popular demand for this day off school! Experience virtual reality from the comfort of the library Thursday\, February 7. Register for your 20-minute slot between 1:00 p.m. and 7:20 p.m. Please note this event is open to all ages\, but is not recommended for those under 12.&nbsp\; <strong>Registration is required.</strong> Contact Meagan at 643-8318 with questions.
LOCATION:Ruth Culver Community Library 540 Water Street\, Prairie du Sac
UID:e.1184.21988
SEQUENCE:3
DTSTAMP:20260423T212827Z
URL:http://members.saukprairie.com/events/details/virtual-reality-21988
END:VEVENT

END:VCALENDAR
