BEGIN:VCALENDAR
VERSION:2.0
PRODID:-//ChamberMaster//Event Calendar 2.0//EN
METHOD:PUBLISH
X-PUBLISHED-TTL:P3D
REFRESH-INTERVAL:P3D
CALSCALE:GREGORIAN
BEGIN:VEVENT
DTSTART:20220517T223000Z
DTEND:20220518T000000Z
X-MICROSOFT-CDO-ALLDAYEVENT:FALSE
SUMMARY:Volunteer Recruitment Open House
DESCRIPTION:We Need You To Be Our Hero!! Come to our recruitment open house to find out how you can become an EMT\, meet members of Sauk Prairie Ambulance\, tour our facilities and see some of our newest patient care equipment.
X-ALT-DESC;FMTTYPE=text/html:We Need You To Be Our Hero!! Come to our recruitment open house to find out how you can become an EMT\, meet members of Sauk Prairie Ambulance\, tour our facilities and see some of our newest patient care equipment.
LOCATION:Sauk Prairie Ambulance\, 470 Oak St. Prairie du Sac\, WI
UID:e.1184.27656
SEQUENCE:3
DTSTAMP:20260421T115946Z
URL:http://members.saukprairie.com/events/details/volunteer-recruitment-open-house-27656
END:VEVENT

END:VCALENDAR
