BEGIN:VCALENDAR
VERSION:2.0
PRODID:-//ChamberMaster//Event Calendar 2.0//EN
METHOD:PUBLISH
X-PUBLISHED-TTL:P3D
REFRESH-INTERVAL:P3D
CALSCALE:GREGORIAN
BEGIN:VEVENT
DTSTART:20230911T203000Z
DTEND:20230911T213000Z
X-MICROSOFT-CDO-ALLDAYEVENT:FALSE
SUMMARY:Wags and Tales Read with a Dog
DESCRIPTION:Children or families can sign up for a 15-minute time slot to read with a dog. Great for reluctant readers or dog-lovers. Registration is required. Call or stop by the library and sign up today!
X-ALT-DESC;FMTTYPE=text/html:Children or families can sign up for a 15-minute time slot to read with a dog. Great for reluctant readers or dog-lovers. Registration is required. Call or stop by the library and sign up today!
LOCATION:615 Phillips Blvd. Sauk City\, WI 53583
UID:e.1184.31020
SEQUENCE:3
DTSTAMP:20260420T074118Z
URL:http://members.saukprairie.com/events/details/wags-and-tales-read-with-a-dog-31020
END:VEVENT

END:VCALENDAR
