BEGIN:VCALENDAR
VERSION:2.0
PRODID:-//ChamberMaster//Event Calendar 2.0//EN
METHOD:PUBLISH
X-PUBLISHED-TTL:P3D
REFRESH-INTERVAL:P3D
CALSCALE:GREGORIAN
BEGIN:VEVENT
DTSTART:20190825T190000Z
DTEND:20190825T210000Z
X-MICROSOFT-CDO-ALLDAYEVENT:FALSE
SUMMARY:Water St. Jacks
DESCRIPTION:Sunday afternoon in the beer garden overlooking the beautiful WI River.\n\n\n\nWater Street Jacks is an Americana\, folk rock band out of southern WI. We feature four-part harmonies\, unique covers and about a dozen original tunes.
X-ALT-DESC;FMTTYPE=text/html:<div class="_63eu" style="box-sizing: border-box\; font-size: 14px\; max-height: 260px\; overflow: hidden\; padding: 12px\; overflow-wrap: break-word\; font-family: Helvetica\, Arial\, sans-serif\; color: rgb(29\, 33\, 41)\;">\n<div class="_63ew" data-testid="event-permalink-details" style="white-space: pre-wrap\; font-family: inherit\;"><span style="font-family: inherit\;">Sunday afternoon in the beer garden overlooking the beautiful WI River.</span><br />\n<br />\n<span style="font-family: inherit\;">Water Street Jacks is an Americana\, folk rock band out of southern WI. We feature four-part harmonies\, unique covers and about a dozen original tunes.</span>\n\n<div class="_63eu" style="box-sizing: border-box\; font-size: 14px\; max-height: 260px\; overflow: hidden\; padding: 12px\; overflow-wrap: break-word\; font-family: Helvetica\, Arial\, sans-serif\; color: rgb(29\, 33\, 41)\;">\n<div>&nbsp\;</div>\n</div>\n</div>\n\n<div>&nbsp\;</div>\n</div>\n
LOCATION:Vintage Brewing Co. 600 Water St. Sauk City\, WI 53583
UID:e.1184.22733
SEQUENCE:3
DTSTAMP:20260423T123433Z
URL:http://members.saukprairie.com/events/details/water-st-jacks-22733
END:VEVENT

END:VCALENDAR
