BEGIN:VCALENDAR
VERSION:2.0
PRODID:-//ChamberMaster//Event Calendar 2.0//EN
METHOD:PUBLISH
X-PUBLISHED-TTL:P3D
REFRESH-INTERVAL:P3D
CALSCALE:GREGORIAN
BEGIN:VEVENT
DTSTART:20180310T000000Z
DTEND:20180310T020000Z
X-MICROSOFT-CDO-ALLDAYEVENT:FALSE
SUMMARY:Water Street Jacks Concert
DESCRIPTION:The Friends of the Sauk City Public Library welcome the Water Street Jacks for an after-hours show!\n\nThe Water Street Jacks are a local folk-rock\, alt-country band.\n\nThe event is free and open to the public. There will be a cash bar on site.
X-ALT-DESC;FMTTYPE=text/html:<p>The Friends of the Sauk City Public Library welcome the Water Street Jacks for an after-hours show!</p>\n\n<p>The Water Street Jacks are a local folk-rock\, alt-country band.</p>\n\n<p>The event is free and open to the public. There will be a cash bar on site.</p>\n
LOCATION:
UID:e.1184.14696
SEQUENCE:3
DTSTAMP:20260424T162047Z
URL:http://members.saukprairie.com/events/details/water-street-jacks-concert-14696
END:VEVENT

END:VCALENDAR
