BEGIN:VCALENDAR
VERSION:2.0
PRODID:-//ChamberMaster//Event Calendar 2.0//EN
METHOD:PUBLISH
X-PUBLISHED-TTL:P3D
REFRESH-INTERVAL:P3D
CALSCALE:GREGORIAN
BEGIN:VEVENT
DTSTART:20160625T143000Z
DTEND:20160626T213000Z
X-MICROSOFT-CDO-ALLDAYEVENT:FALSE
SUMMARY:Watercolor Nature Journaling with Cynthia Quinn
DESCRIPTION:Watercolor Nature Journal Workshop\n\nInstructor: Cynthia Quinn\n\n \n\nSaturday-Sunday June 25-26\, 2016\n\n9:30am-4:30pm both days\n\nLocation TBD Sauk Prairie Area\n\n$125 plus supplies\n\nClass size limited (12): Registration required\n\n \n\nCombine your interests in art and nature by starting a sketchbook journal in this two-day workshop. Start with the basics of drawing fundamentals\, then begin to explore using various media.  Pen and ink\, watercolor pencil\, and watercolor techniques will be presented along with ways to incorporate words or poems\, and decorative borders. Cynthia will present many examples from her journals\, give brief demonstrations to generate ideas and will work one on one with students to assist as you get started. Cynthia has been teaching this popular class for a number of years to students of all levels of experience. Beginniners are welcome.\n\n \n\nCynthia Quinn has been painting in oils and watercolor for 25 years\, and is a signature member of the Transparent Watercolor Society of America. The reason she paints? She never tires of the challenges and how it develops her awareness of the world around her.\n\n\n\nRegister at http://www.riverartsinc.org/watercolor-workshop/ or call 608-643-5215
X-ALT-DESC;FMTTYPE=text/html:<p style="margin-left:0px\; margin-right:0px"><strong>Watercolor Nature Journal Workshop</strong><br />\nInstructor: Cynthia Quinn</p>\n\n<div>&nbsp\;</div>\n\n<p style="margin-left:0px\; margin-right:0px">Saturday-Sunday June 25-26\, 2016<br />\n9:30am-4:30pm both days<br />\nLocation TBD Sauk Prairie Area</p>\n\n<p style="margin-left:0px\; margin-right:0px">$125 plus supplies</p>\n\n<p style="margin-left:0px\; margin-right:0px">Class size limited (12): Registration required</p>\n\n<div>&nbsp\;</div>\n\n<p style="margin-left:0px\; margin-right:0px">Combine your interests in art and nature by starting a sketchbook journal in this two-day workshop. Start with the basics of drawing fundamentals\, then begin to explore using various media.&nbsp\; Pen and ink\, watercolor pencil\, and watercolor techniques will be presented along with ways to incorporate words or poems\, and decorative borders. Cynthia will present many examples from her journals\, give brief demonstrations to generate ideas and will work one on one with students to assist as you get started. Cynthia has been teaching this popular class for a number of years to students of all levels of experience. Beginniners are welcome.</p>\n\n<div>&nbsp\;</div>\n\n<p style="margin-left:0px\; margin-right:0px">Cynthia Quinn has been painting in oils and watercolor for 25 years\, and is a signature member of the Transparent Watercolor Society of America. The reason she paints? She never tires of the challenges and how it develops her awareness of the world around her.<br />\n<br />\nRegister at&nbsp\;http://www.riverartsinc.org/watercolor-workshop/&nbsp\;or call 608-643-5215</p>\n
LOCATION:Sauk Prairie Area\, location TBD
UID:e.1184.8359
SEQUENCE:3
DTSTAMP:20260426T004209Z
URL:http://members.saukprairie.com/events/details/watercolor-nature-journaling-with-cynthia-quinn-06-25-2016-8359
END:VEVENT

END:VCALENDAR
