BEGIN:VCALENDAR
VERSION:2.0
PRODID:-//ChamberMaster//Event Calendar 2.0//EN
METHOD:PUBLISH
X-PUBLISHED-TTL:P3D
REFRESH-INTERVAL:P3D
CALSCALE:GREGORIAN
BEGIN:VEVENT
DTSTART:20220917T140000Z
DTEND:20220917T210000Z
X-MICROSOFT-CDO-ALLDAYEVENT:FALSE
SUMMARY:Watercolor Painting: Landscapes\, Skies\, and Water with Lee Mothes
DESCRIPTION:Treat yourself to two days of painting with Lee Mothes! Beginners and returning students are welcome\, as well as anyone who wants to try new techniques. Lee will start by demonstrating watercolor techniques in capturing cloud patterns\, sunlight-on-water\, landforms\, foliage\, and the sense of distance in hills or mountains. Then the class will start painting. Lee will help each student with setting up colors on a palette\, how to use brushes\, create washes with colors\, plus offer tips on perspective and composition. You may choose to work in graphite pencil\, color pencils or ink along with watercolor. Lee will provide a list of drawing and watercolor supplies. You may also bring pastels\, color pencils\, or ink pens to explore and play with.
X-ALT-DESC;FMTTYPE=text/html:<span style="color:rgb(0\, 0\, 0)\; font-family:arial\,helvetica\,sans-serif">Treat yourself to two days of painting with Lee Mothes! Beginners and returning students are welcome\, as well as&nbsp\;anyone who wants&nbsp\;to try new techniques. Lee will start by demonstrating watercolor techniques in capturing cloud patterns\, sunlight-on-water\,&nbsp\;landforms\, foliage\,&nbsp\;and the&nbsp\;sense of distance in&nbsp\;hills&nbsp\;or mountains. Then the class will start painting. Lee will help each student with setting up colors on a palette\, how to use brushes\, create washes with colors\, plus offer tips on perspective and composition. You may choose to work in graphite pencil\, color pencils or ink along with watercolor. Lee will provide a list of&nbsp\;drawing and watercolor supplies. You may also bring pastels\, color pencils\, or ink pens to explore and play with.</span>
LOCATION:590 Water St\, Prairie Du Sac\, WI 53578
UID:e.1184.28195
SEQUENCE:3
DTSTAMP:20260421T062020Z
URL:http://members.saukprairie.com/events/details/watercolor-painting-landscapes-skies-and-water-with-lee-mothes-28195
END:VEVENT

END:VCALENDAR
