BEGIN:VCALENDAR
VERSION:2.0
PRODID:-//ChamberMaster//Event Calendar 2.0//EN
METHOD:PUBLISH
X-PUBLISHED-TTL:P3D
REFRESH-INTERVAL:P3D
CALSCALE:GREGORIAN
BEGIN:VEVENT
DTSTART:20190624T180000Z
DTEND:20190624T190000Z
X-MICROSOFT-CDO-ALLDAYEVENT:FALSE
SUMMARY:Wayne the Wizard's Out of this World Magic & Ventriloquist Show
DESCRIPTION:Wayne the Wizard will bring his out of this world magic and ventriloquist show to the Ruth Culver Community Library Monday\, June 24 at 1:00 p.m.  The show is sure to entertain all ages and will be full of energy\, fun\, and audience participation! Contact Beth at 643-8318 with questions.
X-ALT-DESC;FMTTYPE=text/html:Wayne the Wizard will bring his out of this world magic and ventriloquist show to the Ruth Culver Community Library Monday\, June 24 at 1:00 p.m.&nbsp\; The show is sure to entertain all ages and will be full of energy\, fun\, and audience participation! Contact Beth at 643-8318 with questions.
LOCATION:Ruth Culver Community Library 540 Water Street\, Prairie du Sac
UID:e.1184.22318
SEQUENCE:3
DTSTAMP:20260423T154337Z
URL:http://members.saukprairie.com/events/details/wayne-the-wizard-s-out-of-this-world-magic-ventriloquist-show-22318
END:VEVENT

END:VCALENDAR
