BEGIN:VCALENDAR
VERSION:2.0
PRODID:-//ChamberMaster//Event Calendar 2.0//EN
METHOD:PUBLISH
X-PUBLISHED-TTL:P3D
REFRESH-INTERVAL:P3D
CALSCALE:GREGORIAN
BEGIN:VEVENT
DTSTART:20231117T003000Z
DTEND:20231117T020000Z
X-MICROSOFT-CDO-ALLDAYEVENT:FALSE
SUMMARY:Free Lecture: Wisconsin's Oak Savannas
DESCRIPTION:All are welcome to attend this free educational talk. Light refreshments are provided. The talk will be recorded and posted online.\n\n \n\nWisconsin's Oak Savannas: Ecology and Management of a Globally Rare Community\n\nLars Higdon (Botanist/Naturalist\, Dane County Parks)\n\n \n\nWhat exactly is an oak savanna? Join us to explore this special ecosystem that has been making headlines. Naturalist Lars Higdon will be your guide to the ecology\, plant life\, wildlife\, and restoration of oak savannas\, as well as the role of fire in their continued existence.\n\n \n\nThe 2023-24 "We Are Sauk Prairie" lecture series is sponsored by the Rooted in Conservation Fund at the Community Foundation of South Central Wisconsin.
X-ALT-DESC;FMTTYPE=text/html:<div>All are welcome to attend this free educational talk. Light refreshments are provided. The talk will be recorded and posted online.<br />\n&nbsp\;</div>\n\n<div><strong>Wisconsin&rsquo\;s Oak Savannas: Ecology and Management of a Globally Rare Community</strong><br />\nLars Higdon (Botanist/Naturalist\, Dane County Parks)<br />\n&nbsp\;</div>\n\n<div>What exactly is an oak savanna? Join us to explore this special ecosystem that has been making headlines. Naturalist Lars Higdon will be your guide to the ecology\, plant life\, wildlife\, and restoration of oak savannas\, as well as the role of fire in their continued existence.<br />\n&nbsp\;</div>\n\n<div>The 2023-24 &quot\;We Are Sauk Prairie&quot\; lecture series is sponsored by the Rooted in Conservation Fund at the Community Foundation of South Central Wisconsin.</div>\n
LOCATION:All events will be held in the George Culver Community Library's community room.
UID:e.1184.31007
SEQUENCE:3
DTSTAMP:20260420T044923Z
URL:http://members.saukprairie.com/events/details/we-are-sauk-prairie-free-lecture-series-31007
END:VEVENT

END:VCALENDAR
