BEGIN:VCALENDAR
VERSION:2.0
PRODID:-//ChamberMaster//Event Calendar 2.0//EN
METHOD:PUBLISH
X-PUBLISHED-TTL:P3D
REFRESH-INTERVAL:P3D
CALSCALE:GREGORIAN
BEGIN:VEVENT
DTSTART:20190427T220000Z
DTEND:20190428T030000Z
X-MICROSOFT-CDO-ALLDAYEVENT:FALSE
SUMMARY:"We Believe" Spring Benefit Honoring the Lives of Katie and Rayce
DESCRIPTION:Please join us on April 27th\, to honor the lives of Katie & Rayce. The evening will truly be a celebration and promises to be fun for the whole family! The event will feature music by Sauk Prarie's show choir: Executive Session\, Verona Vocal Jazz: The Accidentals\, and The Red Hot Horn Dawgs. In addition to great live music\, come enjoy food and drinks\, and win some amazing prizes in the silent auction\, raffle\, and other fun games!
X-ALT-DESC;FMTTYPE=text/html:Please join us on April 27th\, to honor the lives of Katie &amp\; Rayce. The evening will truly be a celebration and promises to be fun for the whole family! The event will feature music by Sauk Prarie&#39\;s show choir: Executive Session\, Verona Vocal Jazz: The Accidentals\, and The Red Hot Horn Dawgs. In addition to great live music\, come enjoy food and drinks\, and win some amazing prizes in the silent auction\, raffle\, and other fun games!
LOCATION:Alliant Energy Center
UID:e.1184.22228
SEQUENCE:3
DTSTAMP:20260423T190037Z
URL:http://members.saukprairie.com/events/details/we-believe-spring-benefit-honoring-the-lives-of-katie-and-rayce-22228
END:VEVENT

END:VCALENDAR
