BEGIN:VCALENDAR
VERSION:2.0
PRODID:-//ChamberMaster//Event Calendar 2.0//EN
METHOD:PUBLISH
X-PUBLISHED-TTL:P3D
REFRESH-INTERVAL:P3D
CALSCALE:GREGORIAN
BEGIN:VEVENT
DTSTART:20170814T230000Z
DTEND:20170815T000000Z
X-MICROSOFT-CDO-ALLDAYEVENT:FALSE
SUMMARY:We CAN Festival
DESCRIPTION:All summer long both Sauk Prairie libraries are collecting cans of food for the Sauk Prairie Food Pantry. \n\n\n\nCelebrate\, Monday\, August 14\, at 6:00PM with the "We CAN Festival" at the Sauk Prairie Community Center\, 730 Monroe Street in Sauk City. \n\n\n\nEnjoy family fun with cans\, building\, cooking\, racing\, crafting and more! All are invited!
X-ALT-DESC;FMTTYPE=text/html:<p>All summer long both Sauk Prairie libraries are collecting cans of food for the Sauk Prairie Food Pantry.&nbsp\;<br />\n<br />\nCelebrate\, Monday\, August 14\, at 6:00PM with the &ldquo\;We CAN Festival&rdquo\; at the Sauk Prairie Community Center\, 730 Monroe Street in Sauk City.&nbsp\;<br />\n<br />\nEnjoy family fun with cans\, building\, cooking\, racing\, crafting and more! All are invited!</p>\n
LOCATION:Sauk Prairie Community Center\, 730 Monroe Street in Sauk City
UID:e.1184.11767
SEQUENCE:3
DTSTAMP:20260425T014622Z
URL:http://members.saukprairie.com/events/details/we-can-festival-11767
END:VEVENT

END:VCALENDAR
