BEGIN:VCALENDAR
VERSION:2.0
PRODID:-//ChamberMaster//Event Calendar 2.0//EN
METHOD:PUBLISH
X-PUBLISHED-TTL:P3D
REFRESH-INTERVAL:P3D
CALSCALE:GREGORIAN
BEGIN:VEVENT
DTSTART:20190509T223000Z
DTEND:20190510T010000Z
X-MICROSOFT-CDO-ALLDAYEVENT:FALSE
SUMMARY:We Remember
DESCRIPTION:Please joint us with your family to celebrate the lives of babies lost to miscarriage\, stillbirth\, and early infant death. Organized by Sauk Prairie Healthcare's Fetal Loss Team\, the evening will feature special guest Certified Life Coach Lysianne Unruh\, CPCC. We will share a meal together with dinner starting at 6:00 p.m. at 821 Industry Road\, Sauk City. Please RSVP with the number of adults and children attending to BirthCenter@SaukPrairieHealthcare.org or call 608-643-7227 by Friday April 26.
X-ALT-DESC;FMTTYPE=text/html:Please joint us with your family to celebrate the lives of babies lost to miscarriage\, stillbirth\, and early infant death. Organized by Sauk Prairie Healthcare&#39\;s Fetal Loss Team\, the evening will feature special guest Certified Life Coach Lysianne Unruh\, CPCC. We will share a meal together with dinner starting at 6:00 p.m. at 821 Industry Road\, Sauk City. Please RSVP with the number of adults and children attending to BirthCenter@SaukPrairieHealthcare.org or call 608-643-7227 by Friday April 26.
LOCATION:6:8 Inc 821 Industry Road\, Sauk City
UID:e.1184.22205
SEQUENCE:3
DTSTAMP:20260423T171324Z
URL:http://members.saukprairie.com/events/details/we-remember-22205
END:VEVENT

END:VCALENDAR
