BEGIN:VCALENDAR
VERSION:2.0
PRODID:-//ChamberMaster//Event Calendar 2.0//EN
METHOD:PUBLISH
X-PUBLISHED-TTL:P3D
REFRESH-INTERVAL:P3D
CALSCALE:GREGORIAN
BEGIN:VEVENT
DTSTART:20230628T180000Z
DTEND:20230628T200000Z
X-MICROSOFT-CDO-ALLDAYEVENT:FALSE
SUMMARY:Weaving Craft
DESCRIPTION:Use a potholder loom to create your own textile!  All materials provided. For ages 6-18. Registration required. Many thanks to Maday at Sustainable Textile Design for use of her looms.
X-ALT-DESC;FMTTYPE=text/html:Use a potholder loom to create your own textile!&nbsp\; All materials provided. For ages 6-18. Registration required. Many thanks to Maday at Sustainable Textile Design for use of her looms.
LOCATION:615 Phillips Blvd. Sauk City\, WI 53583
UID:e.1184.30849
SEQUENCE:3
DTSTAMP:20260420T131738Z
URL:http://members.saukprairie.com/events/details/weaving-craft-30849
END:VEVENT

END:VCALENDAR
