BEGIN:VCALENDAR
VERSION:2.0
PRODID:-//ChamberMaster//Event Calendar 2.0//EN
METHOD:PUBLISH
X-PUBLISHED-TTL:P3D
REFRESH-INTERVAL:P3D
CALSCALE:GREGORIAN
BEGIN:VEVENT
DTSTART:20221008T140000Z
DTEND:20221008T170000Z
X-MICROSOFT-CDO-ALLDAYEVENT:FALSE
SUMMARY:Weaving & Mending: Sustainable Perspectives with Maday Delgado
DESCRIPTION:This workshop combines my love of weaving with contemporary mending. It offers the maker a unique opportunity to explore weaving in a smaller scale before venturing out into larger pieces. It also makes it quite possible to visibly mend a beloved garment or favorite home decor item.\n\nWhether you wish to learn something new\, spend some time with your friends or pass on this technique to others\, it will be a well-spent creative\, relaxing and mindful time. All supplies included.
X-ALT-DESC;FMTTYPE=text/html:<p>This workshop combines my love of weaving with contemporary mending.&nbsp\;It offers the maker a unique opportunity to explore weaving in a smaller scale before venturing out into larger pieces. It also makes it quite possible to visibly mend a beloved garment or favorite home decor item.</p>\n\n<div>Whether you wish to learn something new\, spend some time with your friends or pass on this technique to others\, it will be a well-spent creative\, relaxing and mindful time.&nbsp\;All supplies included.&nbsp\;</div>\n
LOCATION:590 Water St\, Prairie Du Sac\, WI 53578
UID:e.1184.28200
SEQUENCE:3
DTSTAMP:20260421T050840Z
URL:http://members.saukprairie.com/events/details/weaving-mending-sustainable-perspectives-with-maday-delgado-28200
END:VEVENT

END:VCALENDAR
