BEGIN:VCALENDAR
VERSION:2.0
PRODID:-//ChamberMaster//Event Calendar 2.0//EN
METHOD:PUBLISH
X-PUBLISHED-TTL:P3D
REFRESH-INTERVAL:P3D
CALSCALE:GREGORIAN
BEGIN:VEVENT
DTSTART:20210519T230000Z
DTEND:20210520T000000Z
X-MICROSOFT-CDO-ALLDAYEVENT:FALSE
SUMMARY:WeCOPE
DESCRIPTION:WeCOPE is an interactive program that helps adults cope with life stress. WeCOPE has been shown to reduce stress and depression\, increase positive affect\, and improve health behaviors. Managing life?s challenges in healthy ways allows participants to take better care of themselves and others.
X-ALT-DESC;FMTTYPE=text/html:WeCOPE is an interactive program that helps adults cope with life stress. WeCOPE has been shown to reduce stress and depression\, increase positive affect\, and improve health behaviors. Managing life?s challenges in healthy ways allows participants to take better care of themselves and others.
LOCATION:This 6-week program meets via Zoom once a week for 60 minutes.
UID:e.1184.26581
SEQUENCE:3
DTSTAMP:20260422T051533Z
URL:http://members.saukprairie.com/events/details/wecope-05-19-2021-26581
END:VEVENT

END:VCALENDAR
