BEGIN:VCALENDAR
VERSION:2.0
PRODID:-//ChamberMaster//Event Calendar 2.0//EN
METHOD:PUBLISH
X-PUBLISHED-TTL:P3D
REFRESH-INTERVAL:P3D
CALSCALE:GREGORIAN
BEGIN:VEVENT
DTSTART:20220104T000000Z
DTEND:20220104T010000Z
X-MICROSOFT-CDO-ALLDAYEVENT:FALSE
SUMMARY:WeCOPE - Holidays
DESCRIPTION:WeCOPE-Connecting with Our Positive Emotions is an interactive program for adults that uses large group and small group activities to build positive emotions and practice in dealing with stress. It is based on the research that even in the context of life stress\, such as serious illness or death of a loved one\, positive emotions can and do occur. The seven sessions encourage practicing skills such as mindfulness\, savoring\, positive reappraisal\, gratitude\, and goal setting\, and more. WeCOPE has a strong evidence base and has been shown to reduce stress and depression\, increase positive affect\, and improve health.
X-ALT-DESC;FMTTYPE=text/html:WeCOPE-Connecting with Our Positive Emotions is an interactive program for adults that uses large group and small group activities to build positive emotions and practice in dealing with stress. It is based on the research that even in the context of life stress\, such as serious illness or death of a loved one\, positive emotions can and do occur. The seven sessions encourage practicing skills such as mindfulness\, savoring\, positive reappraisal\, gratitude\, and goal setting\, and more. WeCOPE has a strong evidence base and has been shown to reduce stress and depression\, increase positive affect\, and improve health.
LOCATION:The 7-week series will run through the holidays for those who would like the extra support in dealing with the stress that can sometimes present itself during this time of the year. This workshop will meet via live zoom once a week for 60 minutes
UID:e.1184.26886
SEQUENCE:3
DTSTAMP:20260421T173022Z
URL:http://members.saukprairie.com/events/details/wecope-holidays-01-03-2022-26886
END:VEVENT

END:VCALENDAR
