BEGIN:VCALENDAR
VERSION:2.0
PRODID:-//ChamberMaster//Event Calendar 2.0//EN
METHOD:PUBLISH
X-PUBLISHED-TTL:P3D
REFRESH-INTERVAL:P3D
CALSCALE:GREGORIAN
BEGIN:VEVENT
DTSTART:20241014T190000Z
DTEND:20241014T200000Z
X-MICROSOFT-CDO-ALLDAYEVENT:FALSE
SUMMARY:WeCOPE Stress Management Program
DESCRIPTION:WeCOPE is an evidence-based program that helps adults deal with life stress. You will learn about and be encouraged to practice 11 different skills such as mindfulness\, positive reappraisal\, gratitude\, and goal setting\, among others. Pre-registration is required.
X-ALT-DESC;FMTTYPE=text/html:WeCOPE is an evidence-based program that helps adults deal with life stress. You will learn about and be encouraged to practice 11 different skills such as mindfulness\, positive reappraisal\, gratitude\, and goal setting\, among others. Pre-registration is required.
LOCATION:Community Room\, Ruth Culver Community Library
UID:e.1184.32963
SEQUENCE:3
DTSTAMP:20260419T143703Z
URL:http://members.saukprairie.com/events/details/wecope-stress-management-program-10-14-2024-32963
END:VEVENT

END:VCALENDAR
