BEGIN:VCALENDAR
VERSION:2.0
PRODID:-//ChamberMaster//Event Calendar 2.0//EN
METHOD:PUBLISH
X-PUBLISHED-TTL:P3D
REFRESH-INTERVAL:P3D
CALSCALE:GREGORIAN
BEGIN:VEVENT
DTSTART:20230623T140000Z
DTEND:20230623T190000Z
X-MICROSOFT-CDO-ALLDAYEVENT:FALSE
SUMMARY:Wellspring Campus Blood Drive
DESCRIPTION:Donate blood at the Wellspring Campus Blood Drive hosted by Sauk Prairie Healthcare on Friday\, June 23 from 9:00 a.m. to 2:00 p.m. at 35 Prairie Avenue\, Prairie du Sac. \n\n\n\nAll donors will be entered into a raffle for a chance to win a summer fun grill package\, which includes a wireless Bluetooth portable travel speaker\, wheeled insulated portable cooler and a standup propane gas grill.\n\n\n\nSchedule your appointment by calling 1-800-RED-CROSS (1-800-733-2767) or by visiting RedCrossBlood.org/Give.\n\n\n\nPlease use Wellspring's east entrance located on Prairie Avenue.
X-ALT-DESC;FMTTYPE=text/html:Donate blood at the Wellspring Campus Blood Drive hosted by Sauk Prairie Healthcare on Friday\, June 23 from 9:00 a.m. to 2:00 p.m. at 35 Prairie Avenue\, Prairie du Sac.&nbsp\;<br />\n<br />\nAll donors will be entered into a raffle for a chance to win a summer fun grill package\, which includes a wireless Bluetooth portable travel speaker\, wheeled insulated portable cooler and a standup propane gas grill.<br />\n<br />\nSchedule your appointment by calling 1-800-RED-CROSS (1-800-733-2767) or by visiting <a href="https://www.redcrossblood.org/give.html/drive-results?order=DATE&amp\;range=10&amp\;zipSponsor=wellspring">RedCrossBlood.org/Give</a>.<br />\n<br />\nPlease use Wellspring&#39\;s east entrance located on Prairie Avenue.
LOCATION:Wellspring Campus East Entrance
UID:e.1184.30813
SEQUENCE:3
DTSTAMP:20260420T115710Z
URL:http://members.saukprairie.com/events/details/wellspring-campus-blood-drive-30813
END:VEVENT

END:VCALENDAR
