BEGIN:VCALENDAR
VERSION:2.0
PRODID:-//ChamberMaster//Event Calendar 2.0//EN
METHOD:PUBLISH
X-PUBLISHED-TTL:P3D
REFRESH-INTERVAL:P3D
CALSCALE:GREGORIAN
BEGIN:VEVENT
DTSTART:20190601T150000Z
DTEND:20190601T170000Z
X-MICROSOFT-CDO-ALLDAYEVENT:FALSE
SUMMARY:Welsh Hills Trail Grand Opening
DESCRIPTION:Taliesin Preservation invites you to the Grand Opening of the Welsh Hills Trail on June 1st\, National Trails Day\, From 10 a.m.- 12 p.m. The celebratory ribbon-cutting will highlight the partnerships with The Ice Age Trail Alliance\, Friends of the Spring Green River Trail\, Driftless Area Land Conservancy\, REI\, and the many volunteers that worked to make the trail a reality. The Welsh Hills Trail traverses about a mile of the lower slopes of the Welsh Hills affording hikers a unique perspective of the Taliesin estate and the ongoing ecological restoration of the landscape. It is a relatively flat trail making it a friendly hike for most people. The marked trail connects the Frank Lloyd Wright Visitor Center with Unity Chapel. Hikers can return on the same trail or take the paved recreational trail along Highway 23 back to the Frank Lloyd Wright Visitor Center. The trail is now open year-round and free of charge.
X-ALT-DESC;FMTTYPE=text/html:Taliesin Preservation invites you to the Grand Opening of the Welsh Hills Trail on June 1st\, National Trails Day\, From 10 a.m.- 12 p.m. The celebratory ribbon-cutting will highlight the partnerships with The Ice Age Trail Alliance\, Friends of the Spring Green River Trail\, Driftless Area Land Conservancy\, REI\, and the many volunteers that worked to make the trail a reality. The Welsh Hills Trail traverses about a mile of the lower slopes of the Welsh Hills affording hikers a unique perspective of the Taliesin estate and the ongoing ecological restoration of the landscape. It is a relatively flat trail making it a friendly hike for most people. The marked trail connects the Frank Lloyd Wright Visitor Center with Unity Chapel. Hikers can return on the same trail or take the paved recreational trail along Highway 23 back to the Frank Lloyd Wright Visitor Center. The trail is now open year-round and free of charge.
LOCATION:Frank Lloyd Wright Visitor Center 5607 County Rd C Spring Green\, WI. 53588
UID:e.1184.22436
SEQUENCE:3
DTSTAMP:20260423T154127Z
URL:http://members.saukprairie.com/events/details/welsh-hills-trail-grand-opening-22436
END:VEVENT

END:VCALENDAR
