BEGIN:VCALENDAR
VERSION:2.0
PRODID:-//ChamberMaster//Event Calendar 2.0//EN
METHOD:PUBLISH
X-PUBLISHED-TTL:P3D
REFRESH-INTERVAL:P3D
CALSCALE:GREGORIAN
BEGIN:VEVENT
DTSTART:20170208T000000Z
DTEND:20170208T020000Z
X-MICROSOFT-CDO-ALLDAYEVENT:FALSE
SUMMARY:West Point Area Historical Society Open House
DESCRIPTION:West Point Area Historical Society Open House. Items from our collections will be on display. See our Facebook page at www.facebook.com/spahs
X-ALT-DESC;FMTTYPE=text/html:West Point Area Historical Society Open House. Items from our collections will be on display. See our Facebook page at www.facebook.com/spahs
LOCATION:West Point Town Hall\, N2114 Rausch Road\, Lodi WI 53555
UID:e.1184.9895
SEQUENCE:3
DTSTAMP:20260425T110237Z
URL:http://members.saukprairie.com/events/details/west-point-area-historical-society-open-house-9895
END:VEVENT

END:VCALENDAR
