BEGIN:VCALENDAR
VERSION:2.0
PRODID:-//ChamberMaster//Event Calendar 2.0//EN
METHOD:PUBLISH
X-PUBLISHED-TTL:P3D
REFRESH-INTERVAL:P3D
CALSCALE:GREGORIAN
BEGIN:VEVENT
DTSTART:20180404T150000Z
DTEND:20180404T160000Z
X-MICROSOFT-CDO-ALLDAYEVENT:FALSE
SUMMARY:What Is A Veteran
DESCRIPTION:Know who you are and what benefits you have earned. \n\nIf you ever served in the military or are related to someone that did you will not want to miss this presentation!\n\nVeterans Classes are FREE to attend RSVP if you can\n\n608-643-8386
X-ALT-DESC;FMTTYPE=text/html:<span style="font-size:18px"><strong>Know who you are and what benefits you have earned.&nbsp\;<br />\nIf you ever served in the military or are related to someone that did you will not want to miss this presentation!<br />\nVeterans Classes are FREE to attend RSVP if you can<br />\n608-643-8386</strong></span>
LOCATION:Community Center Monroe Street Room Address: 730 Monroe St\, Sauk City\, WI 53583
UID:e.1184.17763
SEQUENCE:3
DTSTAMP:20260424T130314Z
URL:http://members.saukprairie.com/events/details/what-is-a-veteran-17763
END:VEVENT

END:VCALENDAR
