BEGIN:VCALENDAR
VERSION:2.0
PRODID:-//ChamberMaster//Event Calendar 2.0//EN
METHOD:PUBLISH
X-PUBLISHED-TTL:P3D
REFRESH-INTERVAL:P3D
CALSCALE:GREGORIAN
BEGIN:VEVENT
DTSTART:20180628T143000Z
DTEND:20180628T153000Z
X-MICROSOFT-CDO-ALLDAYEVENT:FALSE
SUMMARY:What is a Veteran? Know who you are and what benefits you have earned!
DESCRIPTION:Know who you are and what benefits you have earned!  If you ever served in the military or are related to  someone that did\, you will not want to miss this presentation.  You may be surprised at what services you qualify for and what services are available to you.  \n\n\n\nPresented by Tony Tyczynksi\, Veterans Service Officer of Sauk County\, Tony has been the Sauk County Veterans Service Officer since 2005.  Immediately prior to that\, he worked for a private contractor at Ft McCoy.  He proudly served in the U.S. Marine Corps from 1980-1985 as a Combat Engineer and Weather Observer
X-ALT-DESC;FMTTYPE=text/html:Know who you are and what benefits you have earned!&nbsp\; If you ever served in the military or are related to&nbsp\; someone that did\, you will not want to miss this presentation.&nbsp\; You may be surprised at what services you qualify for and what services are available to you.&nbsp\;&nbsp\;<br />\n<br />\nPresented by Tony Tyczynksi\, Veterans Service Officer of Sauk County\,&nbsp\;Tony has been the Sauk County Veterans Service Officer since 2005.&nbsp\; Immediately prior to that\, he worked for a private contractor at Ft McCoy.&nbsp\; He proudly served in the U.S. Marine Corps from 1980-1985 as a Combat Engineer and Weather Observer
LOCATION:Community Center\, Monroe Street Room\, 730 Monroe St.\, Sauk City\, WI 53583
UID:e.1184.18385
SEQUENCE:3
DTSTAMP:20260424T101141Z
URL:http://members.saukprairie.com/events/details/what-is-a-veteran-know-who-you-are-and-what-benefits-you-have-earned-06-28-2018-18385
END:VEVENT

END:VCALENDAR
