BEGIN:VCALENDAR
VERSION:2.0
PRODID:-//ChamberMaster//Event Calendar 2.0//EN
METHOD:PUBLISH
X-PUBLISHED-TTL:P3D
REFRESH-INTERVAL:P3D
CALSCALE:GREGORIAN
BEGIN:VEVENT
DTSTART:20180404T150000Z
DTEND:20180404T160000Z
X-MICROSOFT-CDO-ALLDAYEVENT:FALSE
SUMMARY:What is a Veteran? Know who you are and what benefits you have earned!
DESCRIPTION:What is a Veteran? - \n\n \n\nKnow who you are and what benefits you have earned!\n\nIf you ever served in the military or are related to  someone that did\, you will not want to miss this presentation.\n\n \n\nDates: Wednesday\, April 4th\n\nTime: 10:00 - 11:00 am\n\nLocation: Community Center - Monroe Street Room      \n\nFREE please RSVP if you can to 643-8386\n\n\n\nPresented by Tony Tyczynski\, Veterans Service Officer of Sauk County\n\nTony has been the Sauk County Veterans Service Officer since 2005.  Immediately prior to that\, he worked for a private contractor at Ft McCoy.  He proudly served in the U.S. Marine Corps from 1980-1985 as a Combat Engineer and Weather Observer.
X-ALT-DESC;FMTTYPE=text/html:<div>What is a Veteran? -&nbsp\;</div>\n\n<div>&nbsp\;</div>\n\n<div>Know who you are and what benefits you have earned!</div>\n\n<div>If you ever served in the military or are related to&nbsp\; someone that did\, you will not want to miss this presentation.</div>\n\n<div>&nbsp\;</div>\n\n<div>Dates: Wednesday\, April 4th</div>\n\n<div>Time: 10:00 - 11:00 am</div>\n\n<div>Location: Community Center - Monroe Street Room &nbsp\; &nbsp\; &nbsp\;</div>\n\n<div>FREE&mdash\;please RSVP if you can to 643-8386<br />\n<br />\nPresented by Tony Tyczynski\, Veterans Service Officer of Sauk County<br />\nTony has been the Sauk County Veterans Service Officer since 2005.&nbsp\; Immediately prior to that\, he worked for a private contractor at Ft McCoy.&nbsp\; He proudly served in the U.S. Marine Corps from 1980-1985 as a Combat Engineer and Weather Observer.</div>\n\n<div>&nbsp\;</div>\n
LOCATION:Community Center 730 Monroe Street Sauk City\, WI 53583
UID:e.1184.17764
SEQUENCE:3
DTSTAMP:20260424T130246Z
URL:http://members.saukprairie.com/events/details/what-is-a-veteran-know-who-you-are-and-what-benefits-you-have-earned-17764
END:VEVENT

END:VCALENDAR
