BEGIN:VCALENDAR
VERSION:2.0
PRODID:-//ChamberMaster//Event Calendar 2.0//EN
METHOD:PUBLISH
X-PUBLISHED-TTL:P3D
REFRESH-INTERVAL:P3D
CALSCALE:GREGORIAN
BEGIN:VEVENT
DTSTART:20210517T230000Z
DTEND:20210518T010000Z
X-MICROSOFT-CDO-ALLDAYEVENT:FALSE
SUMMARY:What's it Worth?
DESCRIPTION:Come join appraiser Mike Ivankovich\, host of the " What's it Worth?  Ask Mike the Appraiser Radio Show" to find out whether you have trash or treasure in this online event. Email the library at info@saukcitylibrary.org to register and get a link for this exciting Zoom program. Space is limited for appraisals\, so register soon.
X-ALT-DESC;FMTTYPE=text/html:<span style="font-family:arial\; font-size:11pt">Come join appraiser Mike Ivankovich\, host of the &quot\; What&#39\;s it Worth?&nbsp\; Ask Mike the Appraiser Radio Show&quot\; to find out whether you have trash or treasure in this online event. Email the library at info@saukcitylibrary.org to register and get a link for this exciting Zoom program. Space is limited for appraisals\, so register soon. </span>
LOCATION:
UID:e.1184.26590
SEQUENCE:3
DTSTAMP:20260422T051608Z
URL:http://members.saukprairie.com/events/details/what-s-it-worth-05-17-2021-26590
END:VEVENT

END:VCALENDAR
