BEGIN:VCALENDAR
VERSION:2.0
PRODID:-//ChamberMaster//Event Calendar 2.0//EN
METHOD:PUBLISH
X-PUBLISHED-TTL:P3D
REFRESH-INTERVAL:P3D
CALSCALE:GREGORIAN
BEGIN:VEVENT
DTSTART:20170310T000000Z
DTEND:20170310T030000Z
X-MICROSOFT-CDO-ALLDAYEVENT:FALSE
SUMMARY:What's it Worth?
DESCRIPTION:Join us as we welcome Mark Moran. Mark will be bringing over 30 years experience to the table to tell you what your item is really worth.\n\nThis event is free and open to the public whether you bring an item or not. We will be taking reservations for preferred time slots at the library. Stop by the check out counter or all 608-643-8346 to sign-up.\n\nTo learn more about Mark Moran and his services\, visit his website.\n\n*Excluded items: all weapons\, including swords and knives (though folding knives with advertising are accepted)\; traps (like leg-hold)\; coins and paper money\; Nazi memorabilia\; fine jewelry\, including precious gems\; Beanie Babies.
X-ALT-DESC;FMTTYPE=text/html:<p>Join us as we welcome Mark Moran. Mark will be bringing over 30 years experience to the table to tell you what your item is really worth.</p>\n\n<p>This event is free and open to the public whether you bring an item or not. We will be taking reservations for preferred time slots at the library. Stop by the check out counter or all 608-643-8346 to sign-up.</p>\n\n<p>To learn more about Mark Moran and his services\,&nbsp\;<a href="http://markfmoran.com/" style="margin: 0px\; padding: 0px\; border: 0px\; font-style: inherit\; font-variant: inherit\; font-weight: bold\; font-stretch: inherit\; font-size: inherit\; line-height: inherit\; font-family: inherit\; vertical-align: baseline\; color: rgb(153\, 51\, 0)\; outline: 0px\; text-decoration: none\;">visit his website</a>.</p>\n\n<p>*Excluded items: all weapons\, including swords and knives (though folding knives with advertising are accepted)\; traps (like leg-hold)\; coins and paper money\; Nazi memorabilia\; fine jewelry\, including precious gems\; Beanie Babies.</p>\n
LOCATION:515 Water Street Sauk City\, WI 53583
UID:e.1184.9870
SEQUENCE:3
DTSTAMP:20260425T105930Z
URL:http://members.saukprairie.com/events/details/what-s-it-worth-9870
END:VEVENT

END:VCALENDAR
