BEGIN:VCALENDAR
VERSION:2.0
PRODID:-//ChamberMaster//Event Calendar 2.0//EN
METHOD:PUBLISH
X-PUBLISHED-TTL:P3D
REFRESH-INTERVAL:P3D
CALSCALE:GREGORIAN
BEGIN:VEVENT
DTSTART:20180915T183000Z
DTEND:20180915T200000Z
X-MICROSOFT-CDO-ALLDAYEVENT:FALSE
SUMMARY:What's The Root Of Your Intention?
DESCRIPTION:Join Allie Dienger as she offers this community a harmonizing yoga flow workshop on her return to Wisconsin. Learning to love yourself is a daily practice. We will travel into the practice of self love\, both on and off the yoga mat. Being alone with yourself is the catalyst to this growth. Come unroll your mat to soothe your essence with love. We will sit. We will move. We will flow. We will reflect. Bringing all these pieces together in harmony. Come and be. Show up as you are to indulge in the greatness of being. Reconnect with your breath\, with the mere simplicity of being alive. Bring your journal. Bring your open mind. And bring yourself\, just as you are\, a living organism capable of being aware of your own existence. Come be present. It may be scary\, but it's not dangerous. In fact it's juicy and intimate and amazing when we let it be. The bliss of being in a body. Dwell in the yumminess of you. Centered in your heart space\, you will walk off your mat with tools to implement wherever you find yourself existing.
X-ALT-DESC;FMTTYPE=text/html:Join Allie Dienger as she offers this community a harmonizing yoga flow workshop on her return to Wisconsin. Learning to love yourself is a daily practice. We will travel into the practice of self love\, both on and off the yoga mat. Being alone with yourself is the catalyst to this growth. Come unroll your mat to soothe your essence with love. We will sit. We will move. We will flow. We will reflect. Bringing all these pieces together in harmony. Come and be. Show up as you are to indulge in the greatness of being. Reconnect with your breath\, with the mere simplicity of being alive. Bring your journal. Bring your open mind. And bring yourself\, just as you are\, a living organism capable of being aware of your own existence. Come be present. It may be scary\, but it&#39\;s not dangerous. In fact it&#39\;s juicy and intimate and amazing when we let it be. The bliss of being in a body. Dwell in the yumminess of you. Centered in your heart space\, you will walk off your mat with tools to implement wherever you find yourself existing.<br />\n&nbsp\;
LOCATION:Prairie Fire Yoga 560 Park Avenue Prairie du Sac\, WI 53578
UID:e.1184.20974
SEQUENCE:3
DTSTAMP:20260424T064224Z
URL:http://members.saukprairie.com/events/details/what-s-the-root-of-your-intention-20974
END:VEVENT

END:VCALENDAR
