BEGIN:VCALENDAR
VERSION:2.0
PRODID:-//ChamberMaster//Event Calendar 2.0//EN
METHOD:PUBLISH
X-PUBLISHED-TTL:P3D
REFRESH-INTERVAL:P3D
CALSCALE:GREGORIAN
BEGIN:VEVENT
DTSTART:20190419T120000Z
DTEND:20190426T210000Z
X-MICROSOFT-CDO-ALLDAYEVENT:FALSE
SUMMARY:"What were you wearing?" Art Installation
DESCRIPTION:A public reception to start the viewing period of the Sexual Assault Survivor Art Installation\, "What Were You Wearing?" in recognition of Sexual Assault Awareness Month. \n\n\n\nIn conjunction with local partners Hope House of South Central Wisconsin\, the Sauk County Health Department and the Healthfirst Network.   \n\n\n\nContent Warning: This installation contains descriptions of sexual violence\, which may cause an emotional response. Resources will be available should you need them.
X-ALT-DESC;FMTTYPE=text/html:A public reception to start the viewing period of the Sexual Assault Survivor Art Installation\, &ldquo\;What Were You Wearing?&rdquo\; in recognition of Sexual Assault Awareness Month.&nbsp\;<br />\n<br />\nIn conjunction with local partners Hope House of South Central Wisconsin\, the Sauk County Health Department and the Healthfirst Network.&nbsp\; &nbsp\;<br />\n<br />\nContent Warning: This installation contains descriptions of sexual violence\, which may cause an emotional response. Resources will be available should you need them.
LOCATION:A-217 of the Umhoefer Administration Building\, UW-Platteville | Baraboo/Sauk County Campus\, Baraboo
UID:e.1184.22229
SEQUENCE:3
DTSTAMP:20260423T185714Z
URL:http://members.saukprairie.com/events/details/what-were-you-wearing-art-installation-22229
END:VEVENT

END:VCALENDAR
