BEGIN:VCALENDAR
VERSION:2.0
PRODID:-//ChamberMaster//Event Calendar 2.0//EN
METHOD:PUBLISH
X-PUBLISHED-TTL:P3D
REFRESH-INTERVAL:P3D
CALSCALE:GREGORIAN
BEGIN:VEVENT
DTSTART;VALUE=DATE:20210623
DTEND;VALUE=DATE:20210624
TRANSP:TRANSPARENT
X-MICROSOFT-CDO-ALLDAYEVENT:TRUE
SUMMARY:White Mound County Park Master Planning
DESCRIPTION:Please join us on June 23rd\, 2021 at 6:00pm for an informational discussion on master planning efforts for White Mound County Park. Please join us at Sauk Prairie Smoke Terrace for the results of the Visioning Survey and the announcement of future park improvements.
X-ALT-DESC;FMTTYPE=text/html:Please join us on June 23rd\, 2021 at 6:00pm for an informational discussion on master planning efforts for White Mound County Park. Please join us at Sauk Prairie Smoke Terrace for the results of the Visioning Survey and the announcement of future park improvements.
LOCATION:Prairie Smoke Terrace S7995 White Mound Dr Hillpoint\, WI 53937
UID:e.1184.26644
SEQUENCE:3
DTSTAMP:20260422T034615Z
URL:http://members.saukprairie.com/events/details/white-mound-county-park-master-planning-26644
END:VEVENT

END:VCALENDAR
