BEGIN:VCALENDAR
VERSION:2.0
PRODID:-//ChamberMaster//Event Calendar 2.0//EN
METHOD:PUBLISH
X-PUBLISHED-TTL:P3D
REFRESH-INTERVAL:P3D
CALSCALE:GREGORIAN
BEGIN:VEVENT
DTSTART:20210707T230000Z
DTEND:20210708T010000Z
X-MICROSOFT-CDO-ALLDAYEVENT:FALSE
SUMMARY:White Mound Pollinator Field Day
DESCRIPTION:Learn from local experts from White Mound County Park\, Pheasants Forever\, and the Driftless Area Land Conservancy. Topics covered at this event will include: Oak Savanna\, Management Practices\, Plant Identification\, and Habitat Assessment.
X-ALT-DESC;FMTTYPE=text/html:Learn from local experts from White Mound County Park\, Pheasants Forever\, and the Driftless Area Land Conservancy. Topics covered at this event will include: Oak Savanna\, Management Practices\, Plant Identification\, and Habitat Assessment.
LOCATION:White Mound County Park (s7995 White Mound Dr\, Hillpoint\, WI)
UID:e.1184.26665
SEQUENCE:3
DTSTAMP:20260422T021023Z
URL:http://members.saukprairie.com/events/details/white-mound-pollinator-field-day-26665
END:VEVENT

END:VCALENDAR
